BEGIN:VCALENDAR
VERSION:2.0
PRODID:Imitheme.com 
BEGIN:VEVENT
UID:20260423T084705323071172
DTSTAMP;TZID=UTC:2026-04-23 08:47:05
DTSTART;TZID=America/Los_Angeles:20260423T084705
DTEND;TZID=America/Los_Angeles:20260423T084705
SUMMARY:INTERNATIONAL TRAINING CENTER OF GENITAL AESTHETIC -  LIVE WEBINAR
LOCATION:London\,England
DESCRIPTION:
URL:https://itcga.co.uk/eventer/international-training-center-of-genital-aesthetic-live-webinar/
END:VEVENT
END:VCALENDAR
